BEGIN:VCALENDAR
VERSION:2.0
PRODID:https://www.altmuehl-jura.de/
X-PUBLISHED-TTL:P1D
BEGIN:VEVENT
UID:69e7eee9d70c7
DTSTART:20261010T080000Z
SEQUENCE:0
TRANSP:OPAQUE
DTEND:20261010T160000Z
URL:https://www.altmuehl-jura.de/veranstaltungen/12_bayerischer_zwiebelmark
 t-626127/
LOCATION:Hauptstraße - Beilngries
SUMMARY:12. Bayerischer Zwiebelmarkt
DESCRIPTION:Genuss & Tradition in Beilngries
DTSTAMP:20260421T234057Z
END:VEVENT
END:VCALENDAR