BEGIN:VCALENDAR
VERSION:2.0
PRODID:https://www.altmuehl-jura.de/
X-PUBLISHED-TTL:P1D
BEGIN:VEVENT
UID:69e87374716e2
DTSTART:20260607T113000Z
SEQUENCE:0
TRANSP:OPAQUE
DTEND:20260607T113000Z
URL:https://www.altmuehl-jura.de/veranstaltungen/180_jahre_ludwig-donau-mai
 n-ka-674423-12599425/
LOCATION:- Veranstaltung ohne festen Ort - Dietfurt a.d.Altmühl
SUMMARY:180 Jahre Ludwig-Donau-Main-Kanal
DESCRIPTION:Zwischen altem und neuem Main-Donau Kanal
DTSTAMP:20260422T090628Z
END:VEVENT
END:VCALENDAR