BEGIN:VCALENDAR
VERSION:2.0
PRODID:https://www.altmuehl-jura.de/
X-PUBLISHED-TTL:P1D
BEGIN:VEVENT
UID:69e6aa10e5937
DTSTART:20261206T100000Z
SEQUENCE:0
TRANSP:OPAQUE
DTEND:20261206T180000Z
URL:https://www.altmuehl-jura.de/veranstaltungen/19_adventsmarkt_im_kloster
 _pla-662311-12587875/
LOCATION:Kloster Plankstetten - Berching
SUMMARY:19. Adventsmarkt im Kloster Plankstetten
DTSTAMP:20260421T003456Z
END:VEVENT
END:VCALENDAR