BEGIN:VCALENDAR
VERSION:2.0
PRODID:https://www.altmuehl-jura.de/
X-PUBLISHED-TTL:P1D
BEGIN:VEVENT
UID:69e88c64e21ef
DTSTART:20260725T063000Z
SEQUENCE:0
TRANSP:OPAQUE
DTEND:20260725T163000Z
URL:https://www.altmuehl-jura.de/veranstaltungen/21_staedtisches_beachvolle
 ybal-688881-12606207/
LOCATION:Freibad Beilngries - Beilngries
SUMMARY:21. städtisches Beachvolleyballturnier
DTSTAMP:20260422T105252Z
END:VEVENT
END:VCALENDAR