BEGIN:VCALENDAR
VERSION:2.0
PRODID:https://www.altmuehl-jura.de/
X-PUBLISHED-TTL:P1D
BEGIN:VEVENT
UID:69e7eb82a72c8
DTSTART:20260711T140000Z
SEQUENCE:0
TRANSP:OPAQUE
DTEND:20260711T140000Z
URL:https://www.altmuehl-jura.de/veranstaltungen/33_dietfurter_7-taeler-lau
 f_20-636859/
LOCATION:- Veranstaltung ohne festen Ort - Dietfurt a.d.Altmühl
SUMMARY:33. Dietfurter 7-Täler-Lauf 2026
DTSTAMP:20260421T232626Z
END:VEVENT
END:VCALENDAR