BEGIN:VCALENDAR
VERSION:2.0
PRODID:https://www.altmuehl-jura.de/
X-PUBLISHED-TTL:P1D
BEGIN:VEVENT
UID:69e814bd79d9b
DTSTART:20260905T080000Z
SEQUENCE:0
TRANSP:OPAQUE
DTEND:20260905T160000Z
URL:https://www.altmuehl-jura.de/veranstaltungen/33_gredinger_trachtenmarkt
 -649783/
LOCATION:Marktplatz - Greding
SUMMARY:33. Gredinger Trachtenmarkt
DESCRIPTION:mit Trachtenbörse - Einer Aktion des Hilfswerks des Lions Club
  Greding
DTSTAMP:20260422T022221Z
END:VEVENT
END:VCALENDAR