BEGIN:VCALENDAR
VERSION:2.0
PRODID:https://www.altmuehl-jura.de/
X-PUBLISHED-TTL:P1D
BEGIN:VEVENT
UID:69eb14e100594
DTSTART;VALUE=DATE:20260724
SEQUENCE:0
TRANSP:OPAQUE
DTEND;VALUE=DATE:20260728
URL:https://www.altmuehl-jura.de/veranstaltungen/57_gredinger_volksfest-649
 779/
LOCATION:Altstadtparkplatz beim Hallenbad - Greding
SUMMARY:57. Gredinger Volksfest
X-MICROSOFT-CDO-ALLDAYEVENT:TRUE
DTSTAMP:20260424T085945Z
END:VEVENT
END:VCALENDAR