BEGIN:VCALENDAR
VERSION:2.0
PRODID:https://www.altmuehl-jura.de/
X-PUBLISHED-TTL:P1D
BEGIN:VEVENT
UID:69e7dd8e97c46
DTSTART;VALUE=DATE:20260626
SEQUENCE:0
TRANSP:OPAQUE
DTEND;VALUE=DATE:20260629
URL:https://www.altmuehl-jura.de/veranstaltungen/65-jaehriges_gruendungsfes
 t_de-658803-12580277/
LOCATION:Dorfhaus Sollngriesbach - Berching
SUMMARY:65-jähriges Gründungsfest des Schützenvereins
DESCRIPTION:\"Hohenbrunnen\" Sollngriesbach e.V.
X-MICROSOFT-CDO-ALLDAYEVENT:TRUE
DTSTAMP:20260421T222654Z
END:VEVENT
END:VCALENDAR