BEGIN:VCALENDAR
VERSION:2.0
PRODID:https://www.altmuehl-jura.de/
X-PUBLISHED-TTL:P1D
BEGIN:VEVENT
UID:69e7e8c72002f
DTSTART:20261018T123000Z
SEQUENCE:0
TRANSP:OPAQUE
DTEND:20261018T123000Z
URL:https://www.altmuehl-jura.de/veranstaltungen/allerweltskirchweih_rapper
 sdor-699045/
LOCATION:Dorfhaus Rappersdorf - Berching
SUMMARY:Allerweltskirchweih Rappersdorf
DTSTAMP:20260421T231447Z
END:VEVENT
END:VCALENDAR