BEGIN:VCALENDAR
VERSION:2.0
PRODID:https://www.altmuehl-jura.de/
X-PUBLISHED-TTL:P1D
BEGIN:VEVENT
UID:69e8c235e8761
DTSTART:20260814T080000Z
SEQUENCE:0
TRANSP:OPAQUE
DTEND:20260814T080000Z
URL:https://www.altmuehl-jura.de/veranstaltungen/altbayerische_kirchweih-62
 5197/
LOCATION:Marktplatz - Breitenbrunn
SUMMARY:Altbayerische Kirchweih
DTSTAMP:20260422T144229Z
END:VEVENT
END:VCALENDAR