BEGIN:VCALENDAR
VERSION:2.0
PRODID:https://www.altmuehl-jura.de/
X-PUBLISHED-TTL:P1D
BEGIN:VEVENT
UID:69e7f4c2a33fc
DTSTART:20260802T103000Z
SEQUENCE:0
TRANSP:OPAQUE
DTEND:20260802T103000Z
URL:https://www.altmuehl-jura.de/veranstaltungen/augustwanderung-661491/
LOCATION:- Veranstaltung ohne festen Ort - Greding
SUMMARY:Augustwanderung
DESCRIPTION:Sommerwanderung
DTSTAMP:20260422T000554Z
END:VEVENT
END:VCALENDAR