BEGIN:VCALENDAR
VERSION:2.0
PRODID:https://www.altmuehl-jura.de/
X-PUBLISHED-TTL:P1D
BEGIN:VEVENT
UID:69ea57a9855ec
DTSTART:20260625T120000Z
SEQUENCE:0
TRANSP:OPAQUE
DTEND:20260625T150000Z
URL:https://www.altmuehl-jura.de/veranstaltungen/bauernmarkt_dietfurt-mit_r
 egio-669089-12595883/
LOCATION:Innenstadt - Dietfurt
SUMMARY:Bauernmarkt Dietfurt - mit regionalen Produkten
DTSTAMP:20260423T193225Z
END:VEVENT
END:VCALENDAR