BEGIN:VCALENDAR
VERSION:2.0
PRODID:https://www.altmuehl-jura.de/
X-PUBLISHED-TTL:P1D
BEGIN:VEVENT
UID:69e89b83d9e72
DTSTART:20260723T120000Z
SEQUENCE:0
TRANSP:OPAQUE
DTEND:20260723T150000Z
URL:https://www.altmuehl-jura.de/veranstaltungen/bauernmarkt_dietfurt-mit_r
 egio-669089-12595891/
LOCATION:Innenstadt - Dietfurt
SUMMARY:Bauernmarkt Dietfurt - mit regionalen Produkten
DTSTAMP:20260422T115723Z
END:VEVENT
END:VCALENDAR