BEGIN:VCALENDAR
VERSION:2.0
PRODID:https://www.altmuehl-jura.de/
X-PUBLISHED-TTL:P1D
BEGIN:VEVENT
UID:69eaaae2b236f
DTSTART:20260730T120000Z
SEQUENCE:0
TRANSP:OPAQUE
DTEND:20260730T150000Z
URL:https://www.altmuehl-jura.de/veranstaltungen/bauernmarkt_dietfurt-mit_r
 egio-669089-12595893/
LOCATION:Innenstadt - Dietfurt
SUMMARY:Bauernmarkt Dietfurt - mit regionalen Produkten
DTSTAMP:20260424T012730Z
END:VEVENT
END:VCALENDAR