BEGIN:VCALENDAR
VERSION:2.0
PRODID:https://www.altmuehl-jura.de/
X-PUBLISHED-TTL:P1D
BEGIN:VEVENT
UID:69eac611a4b12
DTSTART:20260910T120000Z
SEQUENCE:0
TRANSP:OPAQUE
DTEND:20260910T150000Z
URL:https://www.altmuehl-jura.de/veranstaltungen/bauernmarkt_dietfurt-mit_r
 egio-669089-12595901
LOCATION:Innenstadt - Dietfurt
SUMMARY:Bauernmarkt Dietfurt - mit regionalen Produkten
DTSTAMP:20260424T032329Z
END:VEVENT
END:VCALENDAR