BEGIN:VCALENDAR
VERSION:2.0
PRODID:https://www.altmuehl-jura.de/
X-PUBLISHED-TTL:P1D
BEGIN:VEVENT
UID:69ec32c5dd196
DTSTART:20261217T130000Z
SEQUENCE:0
TRANSP:OPAQUE
DTEND:20261217T160000Z
URL:https://www.altmuehl-jura.de/veranstaltungen/bauernmarkt_dietfurt-mit_r
 egio-669089-12595929/
LOCATION:Innenstadt - Dietfurt
SUMMARY:Bauernmarkt Dietfurt - mit regionalen Produkten
DTSTAMP:20260425T051933Z
END:VEVENT
END:VCALENDAR