BEGIN:VCALENDAR
VERSION:2.0
PRODID:https://www.altmuehl-jura.de/
X-PUBLISHED-TTL:P1D
BEGIN:VEVENT
UID:69ea69cabb7a3
DTSTART;VALUE=DATE:20260620
SEQUENCE:0
TRANSP:OPAQUE
DTEND;VALUE=DATE:20260622
URL:https://www.altmuehl-jura.de/veranstaltungen/bayrisch-chinesischer_somm
 er_2-618669-12562097/
LOCATION:Innenstadt - Dietfurt
SUMMARY:BAYRISCH-CHINESISCHER SOMMER 2026
X-MICROSOFT-CDO-ALLDAYEVENT:TRUE
DTSTAMP:20260423T204946Z
END:VEVENT
END:VCALENDAR