BEGIN:VCALENDAR
VERSION:2.0
PRODID:https://www.altmuehl-jura.de/
X-PUBLISHED-TTL:P1D
BEGIN:VEVENT
UID:69e6d0b41df72
DTSTART:20260621T070000Z
SEQUENCE:0
TRANSP:OPAQUE
DTEND:20260621T150000Z
URL:https://www.altmuehl-jura.de/veranstaltungen/bronzeguss-keltische_bronz
 en-656611/
LOCATION:Alcmona-Erlebnisdorf - Dietfurt
SUMMARY:Bronzeguß - Keltische Bronzen
DESCRIPTION:bei Alcmona
DTSTAMP:20260421T031948Z
END:VEVENT
END:VCALENDAR