BEGIN:VCALENDAR
VERSION:2.0
PRODID:https://www.altmuehl-jura.de/
X-PUBLISHED-TTL:P1D
BEGIN:VEVENT
UID:69e80e1424205
DTSTART:20261108T130000Z
SEQUENCE:0
TRANSP:OPAQUE
DTEND:20261108T130000Z
URL:https://www.altmuehl-jura.de/veranstaltungen/buechereifest_in_kinding-6
 49793-12577605/
LOCATION:Bücherei Kinding - Kinding
SUMMARY:Büchereifest in Kinding
DTSTAMP:20260422T015356Z
END:VEVENT
END:VCALENDAR