BEGIN:VCALENDAR
VERSION:2.0
PRODID:https://www.altmuehl-jura.de/
X-PUBLISHED-TTL:P1D
BEGIN:VEVENT
UID:69e7d93bc2078
DTSTART;VALUE=DATE:20261127
SEQUENCE:0
TRANSP:OPAQUE
DTEND;VALUE=DATE:20261130
URL:https://www.altmuehl-jura.de/veranstaltungen/dietfurter_hofweihnacht-66
 8255-12594767/
LOCATION:BAY.CHI – Café & mehr - Dietfurt
SUMMARY:Dietfurter Hofweihnacht
X-MICROSOFT-CDO-ALLDAYEVENT:TRUE
DTSTAMP:20260421T220827Z
END:VEVENT
END:VCALENDAR