BEGIN:VCALENDAR
VERSION:2.0
PRODID:https://www.altmuehl-jura.de/
X-PUBLISHED-TTL:P1D
BEGIN:VEVENT
UID:69ea5dd41afb1
DTSTART:20260514T120000Z
SEQUENCE:0
TRANSP:OPAQUE
DTEND:20260514T120000Z
URL:https://www.altmuehl-jura.de/veranstaltungen/dorffest_in_weidenwang-808
 973-12683431/
LOCATION:Schützenhaus Weidenwang - Berching
SUMMARY:Dorffest in Weidenwang
DTSTAMP:20260423T195844Z
END:VEVENT
END:VCALENDAR