BEGIN:VCALENDAR
VERSION:2.0
PRODID:https://www.altmuehl-jura.de/
X-PUBLISHED-TTL:P1D
BEGIN:VEVENT
UID:69e81564c5918
DTSTART:20261003T120000Z
SEQUENCE:0
TRANSP:OPAQUE
DTEND:20261003T160000Z
URL:https://www.altmuehl-jura.de/veranstaltungen/drachenfest_des_faschinxve
 rein-658809/
LOCATION:- Veranstaltung ohne festen Ort - Greding
SUMMARY:Drachenfest des Faschinxvereins Obermässing
DTSTAMP:20260422T022508Z
END:VEVENT
END:VCALENDAR