BEGIN:VCALENDAR
VERSION:2.0
PRODID:https://www.altmuehl-jura.de/
X-PUBLISHED-TTL:P1D
BEGIN:VEVENT
UID:69e86d07849bd
DTSTART:20261111T101100Z
SEQUENCE:0
TRANSP:OPAQUE
DTEND:20261111T101100Z
URL:https://www.altmuehl-jura.de/veranstaltungen/faschingseroeffnung_der_gr
 edon-696119/
LOCATION:Marktplatz - Greding
SUMMARY:Faschingseröffnung der Gredonia
DESCRIPTION:und den Böllerschützen
DTSTAMP:20260422T083903Z
END:VEVENT
END:VCALENDAR