BEGIN:VCALENDAR
VERSION:2.0
PRODID:https://www.altmuehl-jura.de/
X-PUBLISHED-TTL:P1D
BEGIN:VEVENT
UID:69e6add56dff4
DTSTART:20260911T093000Z
SEQUENCE:0
TRANSP:OPAQUE
DTEND:20260911T114500Z
URL:https://www.altmuehl-jura.de/veranstaltungen/federweisser_flammkuchenwo
 chen-702761-12617781/
LOCATION:Hotel Dirsch Wellness und Spa Resort - Titting
SUMMARY:Federweisser & Flammkuchenwochen im Hotel Dirsch
DTSTAMP:20260421T005101Z
END:VEVENT
BEGIN:VEVENT
UID:69e6add56e045
DTSTART:20260912T093000Z
SEQUENCE:0
TRANSP:OPAQUE
DTEND:20260912T114500Z
URL:https://www.altmuehl-jura.de/veranstaltungen/federweisser_flammkuchenwo
 chen-702761-12617781/
LOCATION:Hotel Dirsch Wellness und Spa Resort - Titting
SUMMARY:Federweisser & Flammkuchenwochen im Hotel Dirsch
DTSTAMP:20260421T005101Z
END:VEVENT
BEGIN:VEVENT
UID:69e6add56e051
DTSTART:20260913T093000Z
SEQUENCE:0
TRANSP:OPAQUE
DTEND:20260913T114500Z
URL:https://www.altmuehl-jura.de/veranstaltungen/federweisser_flammkuchenwo
 chen-702761-12617781/
LOCATION:Hotel Dirsch Wellness und Spa Resort - Titting
SUMMARY:Federweisser & Flammkuchenwochen im Hotel Dirsch
DTSTAMP:20260421T005101Z
END:VEVENT
BEGIN:VEVENT
UID:69e6add56e065
DTSTART:20260918T093000Z
SEQUENCE:0
TRANSP:OPAQUE
DTEND:20260918T114500Z
URL:https://www.altmuehl-jura.de/veranstaltungen/federweisser_flammkuchenwo
 chen-702761-12617781/
LOCATION:Hotel Dirsch Wellness und Spa Resort - Titting
SUMMARY:Federweisser & Flammkuchenwochen im Hotel Dirsch
DTSTAMP:20260421T005101Z
END:VEVENT
BEGIN:VEVENT
UID:69e6add56e06e
DTSTART:20260919T093000Z
SEQUENCE:0
TRANSP:OPAQUE
DTEND:20260919T114500Z
URL:https://www.altmuehl-jura.de/veranstaltungen/federweisser_flammkuchenwo
 chen-702761-12617781/
LOCATION:Hotel Dirsch Wellness und Spa Resort - Titting
SUMMARY:Federweisser & Flammkuchenwochen im Hotel Dirsch
DTSTAMP:20260421T005101Z
END:VEVENT
BEGIN:VEVENT
UID:69e6add56e077
DTSTART:20260920T093000Z
SEQUENCE:0
TRANSP:OPAQUE
DTEND:20260920T114500Z
URL:https://www.altmuehl-jura.de/veranstaltungen/federweisser_flammkuchenwo
 chen-702761-12617781/
LOCATION:Hotel Dirsch Wellness und Spa Resort - Titting
SUMMARY:Federweisser & Flammkuchenwochen im Hotel Dirsch
DTSTAMP:20260421T005101Z
END:VEVENT
BEGIN:VEVENT
UID:69e6add56e094
DTSTART:20260925T093000Z
SEQUENCE:0
TRANSP:OPAQUE
DTEND:20260925T114500Z
URL:https://www.altmuehl-jura.de/veranstaltungen/federweisser_flammkuchenwo
 chen-702761-12617781/
LOCATION:Hotel Dirsch Wellness und Spa Resort - Titting
SUMMARY:Federweisser & Flammkuchenwochen im Hotel Dirsch
DTSTAMP:20260421T005101Z
END:VEVENT
BEGIN:VEVENT
UID:69e6add56e09d
DTSTART:20260926T093000Z
SEQUENCE:0
TRANSP:OPAQUE
DTEND:20260926T114500Z
URL:https://www.altmuehl-jura.de/veranstaltungen/federweisser_flammkuchenwo
 chen-702761-12617781/
LOCATION:Hotel Dirsch Wellness und Spa Resort - Titting
SUMMARY:Federweisser & Flammkuchenwochen im Hotel Dirsch
DTSTAMP:20260421T005101Z
END:VEVENT
END:VCALENDAR