BEGIN:VCALENDAR
VERSION:2.0
PRODID:https://www.altmuehl-jura.de/
X-PUBLISHED-TTL:P1D
BEGIN:VEVENT
UID:69e6aac26387a
DTSTART:20261118T084500Z
SEQUENCE:0
TRANSP:OPAQUE
DTEND:20261118T213000Z
URL:https://www.altmuehl-jura.de/veranstaltungen/fischerjahrtag_dietfurt-66
 9015-12595187/
LOCATION:Hotel-Gasthof „Zum Bräu-Toni“ GmbH - Dietfurt
SUMMARY:Fischerjahrtag Dietfurt
DESCRIPTION:Jahrestreffen des Dietfurt Fischerbundes
DTSTAMP:20260421T003754Z
END:VEVENT
END:VCALENDAR