BEGIN:VCALENDAR
VERSION:2.0
PRODID:https://www.altmuehl-jura.de/
X-PUBLISHED-TTL:P1D
BEGIN:VEVENT
UID:69e7d00b25923
DTSTART:20260719T080000Z
SEQUENCE:0
TRANSP:OPAQUE
DTEND:20260719T150000Z
URL:https://www.altmuehl-jura.de/veranstaltungen/flohmarkt_in_berching-6889
 29-12606575/
LOCATION:Volksfestplatz - Berching
SUMMARY:Flohmarkt in Berching
DTSTAMP:20260421T212915Z
END:VEVENT
END:VCALENDAR