BEGIN:VCALENDAR
VERSION:2.0
PRODID:https://www.altmuehl-jura.de/
X-PUBLISHED-TTL:P1D
BEGIN:VEVENT
UID:69e80dc55b693
DTSTART:20260823T080000Z
SEQUENCE:0
TRANSP:OPAQUE
DTEND:20260823T150000Z
URL:https://www.altmuehl-jura.de/veranstaltungen/flohmarkt_in_berching-6889
 29-12606577/
LOCATION:Volksfestplatz - Berching
SUMMARY:Flohmarkt in Berching
DTSTAMP:20260422T015237Z
END:VEVENT
END:VCALENDAR