BEGIN:VCALENDAR
VERSION:2.0
PRODID:https://www.altmuehl-jura.de/
X-PUBLISHED-TTL:P1D
BEGIN:VEVENT
UID:69e8b8e2d3c11
DTSTART;VALUE=DATE:20250101
SEQUENCE:0
TRANSP:OPAQUE
DTEND;VALUE=DATE:20270101
URL:https://www.altmuehl-jura.de/veranstaltungen/fuehrungen_im_roemer_und_b
 ajuw-563353/
LOCATION:Römer und Bajuwaren Museum - Kipfenberg
SUMMARY:Führungen im Römer und Bajuwaren Museum
DESCRIPTION:für Gruppen und Schulklassen
X-MICROSOFT-CDO-ALLDAYEVENT:TRUE
DTSTAMP:20260422T140242Z
END:VEVENT
END:VCALENDAR