BEGIN:VCALENDAR
VERSION:2.0
PRODID:https://www.altmuehl-jura.de/
X-PUBLISHED-TTL:P1D
BEGIN:VEVENT
UID:69e88c52b8629
DTSTART:20260525T030000Z
SEQUENCE:0
TRANSP:OPAQUE
DTEND:20260525T030000Z
URL:https://www.altmuehl-jura.de/veranstaltungen/fusswallfahrt_nach_breiten
 brun-734807-12637979/
LOCATION:Pfarrkirche St. Walburga - Beilngries
SUMMARY:Fußwallfahrt nach Breitenbrunn
DTSTAMP:20260422T105234Z
END:VEVENT
END:VCALENDAR