BEGIN:VCALENDAR
VERSION:2.0
PRODID:https://www.altmuehl-jura.de/
X-PUBLISHED-TTL:P1D
BEGIN:VEVENT
UID:69e8a44993d94
DTSTART:20261127T070000Z
SEQUENCE:0
TRANSP:OPAQUE
DTEND:20261127T110000Z
URL:https://www.altmuehl-jura.de/veranstaltungen/gredinger_bauernmarkt-7358
 77-12638585/
LOCATION:Altstadtparkplatz beim Hallenbad - Greding
SUMMARY:Gredinger Bauernmarkt
DTSTAMP:20260422T123449Z
END:VEVENT
END:VCALENDAR