BEGIN:VCALENDAR
VERSION:2.0
PRODID:https://www.altmuehl-jura.de/
X-PUBLISHED-TTL:P1D
BEGIN:VEVENT
UID:69e88566ec390
DTSTART:20260430T060000Z
SEQUENCE:0
TRANSP:OPAQUE
DTEND:20260430T100000Z
URL:https://www.altmuehl-jura.de/veranstaltungen/gredinger_bauernmarkt-7358
 77-12681771/
LOCATION:Altstadtparkplatz beim Hallenbad - Greding
SUMMARY:Gredinger Bauernmarkt
DTSTAMP:20260422T102302Z
END:VEVENT
END:VCALENDAR