BEGIN:VCALENDAR
VERSION:2.0
PRODID:https://www.altmuehl-jura.de/
X-PUBLISHED-TTL:P1D
BEGIN:VEVENT
UID:69e6aa345aad1
DTSTART:20260723T163000Z
SEQUENCE:0
TRANSP:OPAQUE
DTEND:20260723T183000Z
URL:https://www.altmuehl-jura.de/veranstaltungen/gruenkraft-seelenkraeuter-
 648743-12576863/
LOCATION:Alcmona-Erlebnisdorf - Dietfurt
SUMMARY:Grünkraft - Seelenkräuter
DESCRIPTION:bei Alcmona
DTSTAMP:20260421T003532Z
END:VEVENT
END:VCALENDAR