BEGIN:VCALENDAR
VERSION:2.0
PRODID:https://www.altmuehl-jura.de/
X-PUBLISHED-TTL:P1D
BEGIN:VEVENT
UID:69e8bd092fc09
DTSTART:20261015T163000Z
SEQUENCE:0
TRANSP:OPAQUE
DTEND:20261015T183000Z
URL:https://www.altmuehl-jura.de/veranstaltungen/herbstkraeuter_und_wurzeln
 -sch-648751/
LOCATION:Alcmona-Erlebnisdorf - Dietfurt
SUMMARY:Herbstkräuter und Wurzeln - Schätze aus der Erde
DESCRIPTION:Grünkraft-Kräuterschule
DTSTAMP:20260422T142025Z
END:VEVENT
END:VCALENDAR