BEGIN:VCALENDAR
VERSION:2.0
PRODID:https://www.altmuehl-jura.de/
X-PUBLISHED-TTL:P1D
BEGIN:VEVENT
UID:69e7d5474bbd6
DTSTART:20261017T080000Z
SEQUENCE:0
TRANSP:OPAQUE
DTEND:20261017T080000Z
URL:https://www.altmuehl-jura.de/veranstaltungen/hoehlenkundlwanderweg-gefu
 ehrt-645189-12576231/
LOCATION:Kirchplatz Mühlbach - Dietfurt
SUMMARY:Höhlenkundl.Wanderweg - Geführte Wanderung
DTSTAMP:20260421T215135Z
END:VEVENT
END:VCALENDAR