BEGIN:VCALENDAR
VERSION:2.0
PRODID:https://www.altmuehl-jura.de/
X-PUBLISHED-TTL:P1D
BEGIN:VEVENT
UID:69e688f064168
DTSTART:20260830T120000Z
SEQUENCE:0
TRANSP:OPAQUE
DTEND:20260830T220000Z
URL:https://www.altmuehl-jura.de/veranstaltungen/hoffest_100_jahre_gasthaus
 _zuc-806577/
LOCATION:Gasthaus Zucker - Dietfurt
SUMMARY:Hoffest 100 Jahre Gasthaus Zucker
DTSTAMP:20260420T221336Z
END:VEVENT
END:VCALENDAR