BEGIN:VCALENDAR
VERSION:2.0
PRODID:https://www.altmuehl-jura.de/
X-PUBLISHED-TTL:P1D
BEGIN:VEVENT
UID:69e81512e066d
DTSTART:20260712T080000Z
SEQUENCE:0
TRANSP:OPAQUE
DTEND:20260712T160000Z
URL:https://www.altmuehl-jura.de/veranstaltungen/imkerverein_dietfurt-tag_d
 er_o-672733/
LOCATION:Lehrbienenstand Dietfurt - Dietfurt
SUMMARY:Imkerverein Dietfurt - Tag der offenen Tür
DTSTAMP:20260422T022346Z
END:VEVENT
END:VCALENDAR