BEGIN:VCALENDAR
VERSION:2.0
PRODID:https://www.altmuehl-jura.de/
X-PUBLISHED-TTL:P1D
BEGIN:VEVENT
UID:69e6c1f9463cc
DTSTART:20260607T093000Z
SEQUENCE:0
TRANSP:OPAQUE
DTEND:20260607T113000Z
URL:https://www.altmuehl-jura.de/veranstaltungen/italienisches_buffet_im_ho
 tel-702751-12617767/
LOCATION:Hotel Dirsch Wellness und Spa Resort - Titting
SUMMARY:Italienisches Buffet im Hotel Dirsch
DTSTAMP:20260421T021657Z
END:VEVENT
END:VCALENDAR