BEGIN:VCALENDAR
VERSION:2.0
PRODID:https://www.altmuehl-jura.de/
X-PUBLISHED-TTL:P1D
BEGIN:VEVENT
UID:69e69b6ebe2d1
DTSTART:20260906T093000Z
SEQUENCE:0
TRANSP:OPAQUE
DTEND:20260906T113000Z
URL:https://www.altmuehl-jura.de/veranstaltungen/italienisches_buffet_im_ho
 tel-702751-12617771/
LOCATION:Hotel Dirsch Wellness und Spa Resort - Titting
SUMMARY:Italienisches Buffet im Hotel Dirsch
DTSTAMP:20260420T233230Z
END:VEVENT
END:VCALENDAR