BEGIN:VCALENDAR
VERSION:2.0
PRODID:https://www.altmuehl-jura.de/
X-PUBLISHED-TTL:P1D
BEGIN:VEVENT
UID:69e80131e2ec0
DTSTART:20260704T070000Z
SEQUENCE:0
TRANSP:OPAQUE
DTEND:20260704T070000Z
URL:https://www.altmuehl-jura.de/veranstaltungen/juliwanderung-662415-12588
 005/
LOCATION:- Veranstaltung ohne festen Ort - Greding
SUMMARY:Juliwanderung
DESCRIPTION:Übern Auer Berg
DTSTAMP:20260422T005857Z
END:VEVENT
END:VCALENDAR