BEGIN:VCALENDAR
VERSION:2.0
PRODID:https://www.altmuehl-jura.de/
X-PUBLISHED-TTL:P1D
BEGIN:VEVENT
UID:69e814c169e33
DTSTART:20260607T070000Z
SEQUENCE:0
TRANSP:OPAQUE
DTEND:20260607T070000Z
URL:https://www.altmuehl-jura.de/veranstaltungen/juniwanderung-660455/
LOCATION:- Veranstaltung ohne festen Ort - Greding
SUMMARY:Juniwanderung
DESCRIPTION:Sommerwanderung
DTSTAMP:20260422T022225Z
END:VEVENT
END:VCALENDAR