BEGIN:VCALENDAR
VERSION:2.0
PRODID:https://www.altmuehl-jura.de/
X-PUBLISHED-TTL:P1D
BEGIN:VEVENT
UID:69e6bfd75417c
DTSTART:20261108T130000Z
SEQUENCE:0
TRANSP:OPAQUE
DTEND:20261108T160000Z
URL:https://www.altmuehl-jura.de/veranstaltungen/kab-theater_mit_den_dampfp
 laud-642903/
LOCATION:Karl-Strehle-Pfarrheim - Dietfurt
SUMMARY:KAB-Theater mit den Dampfplauderern
DTSTAMP:20260421T020751Z
END:VEVENT
END:VCALENDAR