BEGIN:VCALENDAR
VERSION:2.0
PRODID:https://www.altmuehl-jura.de/
X-PUBLISHED-TTL:P1D
BEGIN:VEVENT
UID:69e6721b79419
DTSTART:20261113T180000Z
SEQUENCE:0
TRANSP:OPAQUE
DTEND:20261113T210000Z
URL:https://www.altmuehl-jura.de/veranstaltungen/kab-theater_mit_den_dampfp
 laud-642905-12575607/
LOCATION:Karl-Strehle-Pfarrheim - Dietfurt
SUMMARY:KAB-Theater mit den Dampfplauderern
DTSTAMP:20260420T203611Z
END:VEVENT
END:VCALENDAR