BEGIN:VCALENDAR
VERSION:2.0
PRODID:https://www.altmuehl-jura.de/
X-PUBLISHED-TTL:P1D
BEGIN:VEVENT
UID:69e8a4498080b
DTSTART:20261115T180000Z
SEQUENCE:0
TRANSP:OPAQUE
DTEND:20261115T210000Z
URL:https://www.altmuehl-jura.de/veranstaltungen/kab-theater_mit_den_dampfp
 laud-642905-12575609/
LOCATION:Karl-Strehle-Pfarrheim - Dietfurt
SUMMARY:KAB-Theater mit den Dampfplauderern
DTSTAMP:20260422T123449Z
END:VEVENT
END:VCALENDAR