BEGIN:VCALENDAR
VERSION:2.0
PRODID:https://www.altmuehl-jura.de/
X-PUBLISHED-TTL:P1D
BEGIN:VEVENT
UID:69ea5d9d7520f
DTSTART:20260603T190000Z
SEQUENCE:0
TRANSP:OPAQUE
DTEND:20260603T230000Z
URL:https://www.altmuehl-jura.de/veranstaltungen/karaoke_im_splash-808965-1
 2683423/
LOCATION:Cocktailbar \"Splash\" - Berching
SUMMARY:Karaoke im Splash
DTSTAMP:20260423T195749Z
END:VEVENT
END:VCALENDAR