BEGIN:VCALENDAR
VERSION:2.0
PRODID:https://www.altmuehl-jura.de/
X-PUBLISHED-TTL:P1D
BEGIN:VEVENT
UID:69e7e8c66b54b
DTSTART;VALUE=DATE:20260619
SEQUENCE:0
TRANSP:OPAQUE
DTEND;VALUE=DATE:20260621
URL:https://www.altmuehl-jura.de/veranstaltungen/kirchweih_rappersdorf-6990
 43/
LOCATION:Dorfhaus Rappersdorf - Berching
SUMMARY:Kirchweih Rappersdorf
X-MICROSOFT-CDO-ALLDAYEVENT:TRUE
DTSTAMP:20260421T231446Z
END:VEVENT
END:VCALENDAR