BEGIN:VCALENDAR
VERSION:2.0
PRODID:https://www.altmuehl-jura.de/
X-PUBLISHED-TTL:P1D
BEGIN:VEVENT
UID:69e7e8c66b0a5
DTSTART:20260426T173000Z
SEQUENCE:0
TRANSP:OPAQUE
DTEND:20260426T173000Z
URL:https://www.altmuehl-jura.de/veranstaltungen/klassik_im_kloster_plankst
 ette-616607/
LOCATION:Kloster Plankstetten - Berching
SUMMARY:Klassik im Kloster Plankstetten 21. Saison
DESCRIPTION:eine Zeitreise vom Barock in die Gegenwart
DTSTAMP:20260421T231446Z
END:VEVENT
END:VCALENDAR