BEGIN:VCALENDAR
VERSION:2.0
PRODID:https://www.altmuehl-jura.de/
X-PUBLISHED-TTL:P1D
BEGIN:VEVENT
UID:69e80cdc6927e
DTSTART:20261010T170000Z
SEQUENCE:0
TRANSP:OPAQUE
DTEND:20261011T010000Z
URL:https://www.altmuehl-jura.de/veranstaltungen/koenigsball_in_sollngriesb
 ach-704889/
LOCATION:Dorfhaus Sollngriesbach - Berching
SUMMARY:Königsball in Sollngriesbach
DTSTAMP:20260422T014844Z
END:VEVENT
END:VCALENDAR