BEGIN:VCALENDAR
VERSION:2.0
PRODID:https://www.altmuehl-jura.de/
X-PUBLISHED-TTL:P1D
BEGIN:VEVENT
UID:69e823785e8a4
DTSTART;VALUE=DATE:20260517
SEQUENCE:0
TRANSP:OPAQUE
DTEND;VALUE=DATE:20260517
URL:https://www.altmuehl-jura.de/veranstaltungen/koenigsfischen_sportangler
 _die-666575-12593529/
LOCATION:Schleuse 13 / Vereinsheim Sportangler Dietfurt - Dietfurt
SUMMARY:Königsfischen Sportangler Dietfurt e.V.
DESCRIPTION:Sportangler Dietfurt
X-MICROSOFT-CDO-ALLDAYEVENT:TRUE
DTSTAMP:20260422T032512Z
END:VEVENT
END:VCALENDAR