BEGIN:VCALENDAR
VERSION:2.0
PRODID:https://www.altmuehl-jura.de/
X-PUBLISHED-TTL:P1D
BEGIN:VEVENT
UID:69e88c2a19c0e
DTSTART:20261129T090000Z
SEQUENCE:0
TRANSP:OPAQUE
DTEND:20261129T120000Z
URL:https://www.altmuehl-jura.de/veranstaltungen/kolping_gedenktag_mitglied
 erve-642893/
LOCATION:Karl-Strehle-Pfarrheim - Dietfurt
SUMMARY:Kolping Gedenktag + Mitgliederversammlung
DTSTAMP:20260422T105154Z
END:VEVENT
END:VCALENDAR