BEGIN:VCALENDAR
VERSION:2.0
PRODID:https://www.altmuehl-jura.de/
X-PUBLISHED-TTL:P1D
BEGIN:VEVENT
UID:69e7fc80dc5c2
DTSTART:20260430T153000Z
SEQUENCE:0
TRANSP:OPAQUE
DTEND:20260430T153000Z
URL:https://www.altmuehl-jura.de/veranstaltungen/maibaum_aufstellen_mit_mai
 baum-703537/
LOCATION:Dorfgemeinschaftshaus Kaldorf - Titting
SUMMARY:Maibaum aufstellen mit Maibaumfest der Bergschützen Kaldorf
DTSTAMP:20260422T003856Z
END:VEVENT
END:VCALENDAR